BEGIN:VCALENDAR
VERSION:2.0
PRODID:spatie/icalendar-generator
NAME:Keeping Up with the Tax Code - Required Minimum Distributions
X-WR-CALNAME:Keeping Up with the Tax Code - Required Minimum Distributions
BEGIN:VTIMEZONE
TZID:America/New_York
BEGIN:DAYLIGHT
DTSTART:20260308T010000
TZOFFSETFROM:-0500
TZOFFSETTO:-0400
END:DAYLIGHT
BEGIN:STANDARD
DTSTART:20261101T010000
TZOFFSETFROM:-0400
TZOFFSETTO:-0500
END:STANDARD
BEGIN:DAYLIGHT
DTSTART:20270314T010000
TZOFFSETFROM:-0500
TZOFFSETTO:-0400
END:DAYLIGHT
END:VTIMEZONE
BEGIN:VTIMEZONE
TZID:UTC
BEGIN:STANDARD
DTSTART:20250727T190846
TZOFFSETFROM:+0000
TZOFFSETTO:+0000
END:STANDARD
END:VTIMEZONE
BEGIN:VEVENT
UID:69ea6e3e16b6c
DTSTAMP:20260423T190846Z
SUMMARY:Keeping Up with the Tax Code - Required Minimum Distributions
URL:https://macpa.org/catalog/events/21567744-keeping-up-with-the-tax-code-
 required-minimum-distributions-2026-17-09
DTSTART;TZID=America/New_York:20260917T130000
DTEND;TZID=America/New_York:20260917T140000
END:VEVENT
END:VCALENDAR