BEGIN:VCALENDAR
VERSION:2.0
PRODID:spatie/icalendar-generator
NAME:Keeping Up with the Tax Code - Required Minimum Distributions
X-WR-CALNAME:Keeping Up with the Tax Code - Required Minimum Distributions
BEGIN:VTIMEZONE
TZID:America/New_York
BEGIN:STANDARD
DTSTART:20261101T010000
TZOFFSETFROM:-0400
TZOFFSETTO:-0500
END:STANDARD
BEGIN:DAYLIGHT
DTSTART:20270314T010000
TZOFFSETFROM:-0500
TZOFFSETTO:-0400
END:DAYLIGHT
END:VTIMEZONE
BEGIN:VTIMEZONE
TZID:UTC
BEGIN:STANDARD
DTSTART:20250727T190414
TZOFFSETFROM:+0000
TZOFFSETTO:+0000
END:STANDARD
END:VTIMEZONE
BEGIN:VEVENT
UID:69ea6d2e23170
DTSTAMP:20260423T190414Z
SUMMARY:Keeping Up with the Tax Code - Required Minimum Distributions
URL:https://macpa.org/catalog/events/21567734-keeping-up-with-the-tax-code-
 required-minimum-distributions-2026-18-12
DTSTART;TZID=America/New_York:20261218T090000
DTEND;TZID=America/New_York:20261218T100000
END:VEVENT
END:VCALENDAR