BEGIN:VCALENDAR
VERSION:2.0
PRODID:spatie/icalendar-generator
NAME:Lifecycle Financial Planning - Disability Insurance
X-WR-CALNAME:Lifecycle Financial Planning - Disability Insurance
BEGIN:VTIMEZONE
TZID:America/New_York
BEGIN:STANDARD
DTSTART:20251102T010000
TZOFFSETFROM:-0400
TZOFFSETTO:-0500
END:STANDARD
BEGIN:DAYLIGHT
DTSTART:20260308T010000
TZOFFSETFROM:-0500
TZOFFSETTO:-0400
END:DAYLIGHT
BEGIN:STANDARD
DTSTART:20261101T010000
TZOFFSETFROM:-0400
TZOFFSETTO:-0500
END:STANDARD
END:VTIMEZONE
BEGIN:VTIMEZONE
TZID:UTC
BEGIN:STANDARD
DTSTART:20250726T195152
TZOFFSETFROM:+0000
TZOFFSETTO:+0000
END:STANDARD
END:VTIMEZONE
BEGIN:VEVENT
UID:69e926d8b8559
DTSTAMP:20260422T195152Z
SUMMARY:Lifecycle Financial Planning - Disability Insurance
LOCATION: 
URL:https://macpa.org/catalog/events/21565668-lifecycle-financial-planning-
 disability-insurance-2026-16-06
DTSTART;TZID=America/New_York:20260616T090000
DTEND;TZID=America/New_York:20260616T100000
END:VEVENT
END:VCALENDAR