BEGIN:VCALENDAR
VERSION:2.0
PRODID:spatie/icalendar-generator
NAME:MACPA Sip & Share: Corporate Member Focus Group (Virtual)☕
X-WR-CALNAME:MACPA Sip & Share: Corporate Member Focus Group (Virtual)☕
BEGIN:VTIMEZONE
TZID:America/New_York
BEGIN:STANDARD
DTSTART:20251102T010000
TZOFFSETFROM:-0400
TZOFFSETTO:-0500
END:STANDARD
BEGIN:DAYLIGHT
DTSTART:20260308T010000
TZOFFSETFROM:-0500
TZOFFSETTO:-0400
END:DAYLIGHT
BEGIN:STANDARD
DTSTART:20261101T010000
TZOFFSETFROM:-0400
TZOFFSETTO:-0500
END:STANDARD
END:VTIMEZONE
BEGIN:VTIMEZONE
TZID:UTC
BEGIN:STANDARD
DTSTART:20250725T233716
TZOFFSETFROM:+0000
TZOFFSETTO:+0000
END:STANDARD
END:VTIMEZONE
BEGIN:VEVENT
UID:69e80a2cbafba
DTSTAMP:20260421T233716Z
SUMMARY:MACPA Sip & Share: Corporate Member Focus Group (Virtual)☕
LOCATION: 
URL:https://macpa.org/catalog/events/21564949-macpa-sip-share-corporate-mem
 ber-focus-group-virtual-2026-21-05
DTSTART;TZID=America/New_York:20260521T090000
DTEND;TZID=America/New_York:20260521T094500
END:VEVENT
END:VCALENDAR