BEGIN:VCALENDAR
VERSION:2.0
PRODID:spatie/icalendar-generator
NAME:Demo Day: Workforce Management Tools
X-WR-CALNAME:Demo Day: Workforce Management Tools
BEGIN:VTIMEZONE
TZID:America/New_York
BEGIN:DAYLIGHT
DTSTART:20260308T010000
TZOFFSETFROM:-0500
TZOFFSETTO:-0400
END:DAYLIGHT
BEGIN:STANDARD
DTSTART:20261101T010000
TZOFFSETFROM:-0400
TZOFFSETTO:-0500
END:STANDARD
END:VTIMEZONE
BEGIN:VTIMEZONE
TZID:UTC
BEGIN:STANDARD
DTSTART:20250727T063348
TZOFFSETFROM:+0000
TZOFFSETTO:+0000
END:STANDARD
END:VTIMEZONE
BEGIN:VEVENT
UID:69e9bd4c5bbee
DTSTAMP:20260423T063348Z
SUMMARY:Demo Day: Workforce Management Tools
LOCATION: 
URL:https://macpa.org/catalog/events/21550013-demo-day-workforce-management
 -tools-2026-18-08
DTSTART;TZID=America/New_York:20260818T110000
DTEND;TZID=America/New_York:20260818T160000
END:VEVENT
END:VCALENDAR