BEGIN:VCALENDAR
VERSION:2.0
PRODID:spatie/icalendar-generator
NAME:MACPA Exclusive: Turning AI Into Real Results (Sponsored by Ramp)
X-WR-CALNAME:MACPA Exclusive: Turning AI Into Real Results (Sponsored by Ra
 mp)
BEGIN:VTIMEZONE
TZID:America/New_York
BEGIN:STANDARD
DTSTART:20251102T010000
TZOFFSETFROM:-0400
TZOFFSETTO:-0500
END:STANDARD
BEGIN:DAYLIGHT
DTSTART:20260308T010000
TZOFFSETFROM:-0500
TZOFFSETTO:-0400
END:DAYLIGHT
END:VTIMEZONE
BEGIN:VTIMEZONE
TZID:UTC
BEGIN:STANDARD
DTSTART:20250727T133834
TZOFFSETFROM:+0000
TZOFFSETTO:+0000
END:STANDARD
END:VTIMEZONE
BEGIN:VEVENT
UID:69ea20da8ea4a
DTSTAMP:20260423T133834Z
SUMMARY:MACPA Exclusive: Turning AI Into Real Results (Sponsored by Ramp)
LOCATION: 
URL:https://macpa.org/catalog/events/21533832-macpa-exclusive-turning-ai-in
 to-real-results-sponsored-by-ramp-2026-10-04
DTSTART;TZID=America/New_York:20260410T090000
DTEND;TZID=America/New_York:20260410T095000
END:VEVENT
END:VCALENDAR