BEGIN:VCALENDAR
VERSION:2.0
PRODID:spatie/icalendar-generator
NAME:Agriculture Tax & Accounting Conference
X-WR-CALNAME:Agriculture Tax & Accounting Conference
BEGIN:VTIMEZONE
TZID:America/New_York
BEGIN:DAYLIGHT
DTSTART:20260308T010000
TZOFFSETFROM:-0500
TZOFFSETTO:-0400
END:DAYLIGHT
BEGIN:STANDARD
DTSTART:20261101T010000
TZOFFSETFROM:-0400
TZOFFSETTO:-0500
END:STANDARD
END:VTIMEZONE
BEGIN:VTIMEZONE
TZID:UTC
BEGIN:STANDARD
DTSTART:20250727T212348
TZOFFSETFROM:+0000
TZOFFSETTO:+0000
END:STANDARD
END:VTIMEZONE
BEGIN:VEVENT
UID:69ea8de413ee0
DTSTAMP:20260423T212348Z
SUMMARY:Agriculture Tax & Accounting Conference
URL:https://macpa.org/catalog/events/21520687-agriculture-tax-accounting-co
 nference-2026-13-08
DTSTART;TZID=America/New_York:20260813T093000
DTEND;TZID=America/New_York:20260813T173000
END:VEVENT
END:VCALENDAR