BEGIN:VCALENDAR
VERSION:2.0
PRODID:spatie/icalendar-generator
NAME:2026 Accounting Educators Exchange
X-WR-CALNAME:2026 Accounting Educators Exchange
BEGIN:VTIMEZONE
TZID:America/New_York
BEGIN:STANDARD
DTSTART:20251102T010000
TZOFFSETFROM:-0400
TZOFFSETTO:-0500
END:STANDARD
BEGIN:DAYLIGHT
DTSTART:20260308T010000
TZOFFSETFROM:-0500
TZOFFSETTO:-0400
END:DAYLIGHT
BEGIN:STANDARD
DTSTART:20261101T010000
TZOFFSETFROM:-0400
TZOFFSETTO:-0500
END:STANDARD
END:VTIMEZONE
BEGIN:VTIMEZONE
TZID:UTC
BEGIN:STANDARD
DTSTART:20250727T094438
TZOFFSETFROM:+0000
TZOFFSETTO:+0000
END:STANDARD
END:VTIMEZONE
BEGIN:VEVENT
UID:69e9ea060e0f1
DTSTAMP:20260423T094438Z
SUMMARY:2026 Accounting Educators Exchange
LOCATION: 
URL:https://macpa.org/catalog/events/21515757-2026-accounting-educators-exc
 hange-2026-12-06
DTSTART;TZID=America/New_York:20260612T080000
DTEND;TZID=America/New_York:20260612T161500
END:VEVENT
END:VCALENDAR