BEGIN:VCALENDAR
VERSION:2.0
PRODID:spatie/icalendar-generator
NAME:CANCELED:  Group Coaching/Empower Hour - Step Up\, Speak Out - Taming 
 Your Inner Critic in High-Stakes Moments
X-WR-CALNAME:CANCELED:  Group Coaching/Empower Hour - Step Up\, Speak Out -
  Taming Your Inner Critic in High-Stakes Moments
BEGIN:VTIMEZONE
TZID:America/New_York
BEGIN:STANDARD
DTSTART:20251102T010000
TZOFFSETFROM:-0400
TZOFFSETTO:-0500
END:STANDARD
BEGIN:DAYLIGHT
DTSTART:20260308T010000
TZOFFSETFROM:-0500
TZOFFSETTO:-0400
END:DAYLIGHT
BEGIN:STANDARD
DTSTART:20261101T010000
TZOFFSETFROM:-0400
TZOFFSETTO:-0500
END:STANDARD
END:VTIMEZONE
BEGIN:VTIMEZONE
TZID:UTC
BEGIN:STANDARD
DTSTART:20250727T150329
TZOFFSETFROM:+0000
TZOFFSETTO:+0000
END:STANDARD
END:VTIMEZONE
BEGIN:VEVENT
UID:69ea34c18bf14
DTSTAMP:20260423T150329Z
SUMMARY:CANCELED:  Group Coaching/Empower Hour - Step Up\, Speak Out - Tami
 ng Your Inner Critic in High-Stakes Moments
LOCATION: 
URL:https://macpa.org/catalog/events/21512827-canceled-group-coachingempowe
 r-hour-step-up-speak-out-taming-your-inner-critic-in-high-stakes-moments-2
 026-12-05
DTSTART;TZID=America/New_York:20260512T090000
DTEND;TZID=America/New_York:20260512T100000
END:VEVENT
END:VCALENDAR