BEGIN:VCALENDAR
VERSION:2.0
PRODID:spatie/icalendar-generator
NAME:Group Coaching/Empower Hour - The Presence Gap: Why Great Women Get Ov
 erlooked & How to Change It
X-WR-CALNAME:Group Coaching/Empower Hour - The Presence Gap: Why Great Wome
 n Get Overlooked & How to Change It
BEGIN:VTIMEZONE
TZID:America/New_York
BEGIN:STANDARD
DTSTART:20251102T010000
TZOFFSETFROM:-0400
TZOFFSETTO:-0500
END:STANDARD
BEGIN:DAYLIGHT
DTSTART:20260308T010000
TZOFFSETFROM:-0500
TZOFFSETTO:-0400
END:DAYLIGHT
END:VTIMEZONE
BEGIN:VTIMEZONE
TZID:UTC
BEGIN:STANDARD
DTSTART:20250727T134025
TZOFFSETFROM:+0000
TZOFFSETTO:+0000
END:STANDARD
END:VTIMEZONE
BEGIN:VEVENT
UID:69ea21497352f
DTSTAMP:20260423T134025Z
SUMMARY:Group Coaching/Empower Hour - The Presence Gap: Why Great Women Get
  Overlooked & How to Change It
LOCATION: 
URL:https://macpa.org/catalog/events/21512808-group-coachingempower-hour-th
 e-presence-gap-why-great-women-get-overlooked-how-to-change-it-2026-24-03
DTSTART;TZID=America/New_York:20260324T120000
DTEND;TZID=America/New_York:20260324T130000
END:VEVENT
END:VCALENDAR