BEGIN:VCALENDAR
VERSION:2.0
PRODID:spatie/icalendar-generator
NAME:Don Farmer’s 2026 Federal Tax Update
X-WR-CALNAME:Don Farmer’s 2026 Federal Tax Update
BEGIN:VTIMEZONE
TZID:America/New_York
BEGIN:STANDARD
DTSTART:20261101T010000
TZOFFSETFROM:-0400
TZOFFSETTO:-0500
END:STANDARD
BEGIN:DAYLIGHT
DTSTART:20270314T010000
TZOFFSETFROM:-0500
TZOFFSETTO:-0400
END:DAYLIGHT
END:VTIMEZONE
BEGIN:VTIMEZONE
TZID:UTC
BEGIN:STANDARD
DTSTART:20250727T150511
TZOFFSETFROM:+0000
TZOFFSETTO:+0000
END:STANDARD
END:VTIMEZONE
BEGIN:VEVENT
UID:69ea3527c9755
DTSTAMP:20260423T150511Z
SUMMARY:Don Farmer’s 2026 Federal Tax Update
LOCATION: 
URL:https://macpa.org/catalog/events/21506766-don-farmers-2026-federal-tax-
 update-2026-17-12
DTSTART;TZID=America/New_York:20261217T080000
DTEND;TZID=America/New_York:20261217T154500
END:VEVENT
END:VCALENDAR