BEGIN:VCALENDAR
VERSION:2.0
PRODID:spatie/icalendar-generator
NAME:Don Farmer’s 2026 Corporate/Business Income Tax Workshop
X-WR-CALNAME:Don Farmer’s 2026 Corporate/Business Income Tax Workshop
BEGIN:VTIMEZONE
TZID:America/New_York
BEGIN:DAYLIGHT
DTSTART:20260308T010000
TZOFFSETFROM:-0500
TZOFFSETTO:-0400
END:DAYLIGHT
BEGIN:STANDARD
DTSTART:20261101T010000
TZOFFSETFROM:-0400
TZOFFSETTO:-0500
END:STANDARD
BEGIN:DAYLIGHT
DTSTART:20270314T010000
TZOFFSETFROM:-0500
TZOFFSETTO:-0400
END:DAYLIGHT
END:VTIMEZONE
BEGIN:VTIMEZONE
TZID:UTC
BEGIN:STANDARD
DTSTART:20250727T163440
TZOFFSETFROM:+0000
TZOFFSETTO:+0000
END:STANDARD
END:VTIMEZONE
BEGIN:VEVENT
UID:69ea4a20e8f68
DTSTAMP:20260423T163440Z
SUMMARY:Don Farmer’s 2026 Corporate/Business Income Tax Workshop
LOCATION:6817 Dogwood Rd\, Woodlawn\, Baltimore County\, Maryland 21244
URL:https://macpa.org/catalog/events/21506727-don-farmers-2026-corporatebus
 iness-income-tax-workshop-2026-19-11
DTSTART;TZID=America/New_York:20261119T080000
DTEND;TZID=America/New_York:20261119T160000
END:VEVENT
END:VCALENDAR