BEGIN:VCALENDAR
VERSION:2.0
PRODID:spatie/icalendar-generator
NAME:Corporate Finance Series: Economics (in collaboration with FICPA)
X-WR-CALNAME:Corporate Finance Series: Economics (in collaboration with FIC
 PA)
BEGIN:VTIMEZONE
TZID:America/New_York
BEGIN:DAYLIGHT
DTSTART:20260308T010000
TZOFFSETFROM:-0500
TZOFFSETTO:-0400
END:DAYLIGHT
BEGIN:STANDARD
DTSTART:20261101T010000
TZOFFSETFROM:-0400
TZOFFSETTO:-0500
END:STANDARD
END:VTIMEZONE
BEGIN:VTIMEZONE
TZID:UTC
BEGIN:STANDARD
DTSTART:20250727T134031
TZOFFSETFROM:+0000
TZOFFSETTO:+0000
END:STANDARD
END:VTIMEZONE
BEGIN:VEVENT
UID:69ea214fe999d
DTSTAMP:20260423T134031Z
SUMMARY:Corporate Finance Series: Economics (in collaboration with FICPA)
LOCATION: 
URL:https://macpa.org/catalog/events/21503255-corporate-finance-series-econ
 omics-in-collaboration-with-ficpa-2026-19-08
DTSTART;TZID=America/New_York:20260819T083000
DTEND;TZID=America/New_York:20260819T120000
END:VEVENT
END:VCALENDAR