BEGIN:VCALENDAR
VERSION:2.0
PRODID:spatie/icalendar-generator
NAME:Corporate Finance Series: AI Strategy (in collaboration with FICPA)
X-WR-CALNAME:Corporate Finance Series: AI Strategy (in collaboration with F
 ICPA)
BEGIN:VTIMEZONE
TZID:America/New_York
BEGIN:STANDARD
DTSTART:20251102T010000
TZOFFSETFROM:-0400
TZOFFSETTO:-0500
END:STANDARD
BEGIN:DAYLIGHT
DTSTART:20260308T010000
TZOFFSETFROM:-0500
TZOFFSETTO:-0400
END:DAYLIGHT
BEGIN:STANDARD
DTSTART:20261101T010000
TZOFFSETFROM:-0400
TZOFFSETTO:-0500
END:STANDARD
END:VTIMEZONE
BEGIN:VTIMEZONE
TZID:UTC
BEGIN:STANDARD
DTSTART:20250727T163444
TZOFFSETFROM:+0000
TZOFFSETTO:+0000
END:STANDARD
END:VTIMEZONE
BEGIN:VEVENT
UID:69ea4a24705b0
DTSTAMP:20260423T163444Z
SUMMARY:Corporate Finance Series: AI Strategy (in collaboration with FICPA)
LOCATION: 
URL:https://macpa.org/catalog/events/21503251-corporate-finance-series-ai-s
 trategy-in-collaboration-with-ficpa-2026-15-07
DTSTART;TZID=America/New_York:20260715T083000
DTEND;TZID=America/New_York:20260715T120000
END:VEVENT
END:VCALENDAR