BEGIN:VCALENDAR
VERSION:2.0
PRODID:spatie/icalendar-generator
NAME:Corporate Finance Series: Managing Cyber Risk as a Finance Leader (in 
 collaboration with FICPA)
X-WR-CALNAME:Corporate Finance Series: Managing Cyber Risk as a Finance Lea
 der (in collaboration with FICPA)
BEGIN:VTIMEZONE
TZID:America/New_York
BEGIN:STANDARD
DTSTART:20251102T010000
TZOFFSETFROM:-0400
TZOFFSETTO:-0500
END:STANDARD
BEGIN:DAYLIGHT
DTSTART:20260308T010000
TZOFFSETFROM:-0500
TZOFFSETTO:-0400
END:DAYLIGHT
BEGIN:STANDARD
DTSTART:20261101T010000
TZOFFSETFROM:-0400
TZOFFSETTO:-0500
END:STANDARD
END:VTIMEZONE
BEGIN:VTIMEZONE
TZID:UTC
BEGIN:STANDARD
DTSTART:20250727T150456
TZOFFSETFROM:+0000
TZOFFSETTO:+0000
END:STANDARD
END:VTIMEZONE
BEGIN:VEVENT
UID:69ea3518e62c7
DTSTAMP:20260423T150456Z
SUMMARY:Corporate Finance Series: Managing Cyber Risk as a Finance Leader (
 in collaboration with FICPA)
LOCATION: 
URL:https://macpa.org/catalog/events/21503247-corporate-finance-series-mana
 ging-cyber-risk-as-a-finance-leader-in-collaboration-with-ficpa-2026-24-06
DTSTART;TZID=America/New_York:20260624T083000
DTEND;TZID=America/New_York:20260624T120000
END:VEVENT
END:VCALENDAR