BEGIN:VCALENDAR
VERSION:2.0
PRODID:spatie/icalendar-generator
NAME:Google Gemini Deep Dive Hands-on Bootcamp for CPAs
X-WR-CALNAME:Google Gemini Deep Dive Hands-on Bootcamp for CPAs
BEGIN:VTIMEZONE
TZID:America/New_York
BEGIN:STANDARD
DTSTART:20261101T010000
TZOFFSETFROM:-0400
TZOFFSETTO:-0500
END:STANDARD
BEGIN:DAYLIGHT
DTSTART:20270314T010000
TZOFFSETFROM:-0500
TZOFFSETTO:-0400
END:DAYLIGHT
END:VTIMEZONE
BEGIN:VTIMEZONE
TZID:UTC
BEGIN:STANDARD
DTSTART:20250727T211721
TZOFFSETFROM:+0000
TZOFFSETTO:+0000
END:STANDARD
END:VTIMEZONE
BEGIN:VEVENT
UID:69ea8c614535c
DTSTAMP:20260423T211721Z
SUMMARY:Google Gemini Deep Dive Hands-on Bootcamp for CPAs
LOCATION: 
URL:https://macpa.org/catalog/events/21493116-google-gemini-deep-dive-hands
 -on-bootcamp-for-cpas-2026-04-12
DTSTART;TZID=America/New_York:20261204T100000
DTEND;TZID=America/New_York:20261204T115000
END:VEVENT
END:VCALENDAR