BEGIN:VCALENDAR
VERSION:2.0
PRODID:spatie/icalendar-generator
NAME:Remote Leadership Lab: Strategies for Leading High-Performing Remote T
 eams (in collaboration with VSCPA)
X-WR-CALNAME:Remote Leadership Lab: Strategies for Leading High-Performing 
 Remote Teams (in collaboration with VSCPA)
BEGIN:VTIMEZONE
TZID:America/New_York
BEGIN:STANDARD
DTSTART:20251102T010000
TZOFFSETFROM:-0400
TZOFFSETTO:-0500
END:STANDARD
BEGIN:DAYLIGHT
DTSTART:20260308T010000
TZOFFSETFROM:-0500
TZOFFSETTO:-0400
END:DAYLIGHT
END:VTIMEZONE
BEGIN:VTIMEZONE
TZID:UTC
BEGIN:STANDARD
DTSTART:20250727T150457
TZOFFSETFROM:+0000
TZOFFSETTO:+0000
END:STANDARD
END:VTIMEZONE
BEGIN:VEVENT
UID:69ea3519f3d6f
DTSTAMP:20260423T150457Z
SUMMARY:Remote Leadership Lab: Strategies for Leading High-Performing Remot
 e Teams (in collaboration with VSCPA)
LOCATION: 
URL:https://macpa.org/catalog/events/21490887-remote-leadership-lab-strateg
 ies-for-leading-high-performing-remote-teams-in-collaboration-with-vscpa-2
 026-16-02
DTSTART;TZID=America/New_York:20260216T080000
DTEND;TZID=America/New_York:20260417T090000
END:VEVENT
END:VCALENDAR