BEGIN:VCALENDAR
VERSION:2.0
PRODID:spatie/icalendar-generator
NAME:Corporate Finance Series: The Rise of the Fractional CFO: Rethinking F
 inance Leadership (in collaboration with FICPA)
X-WR-CALNAME:Corporate Finance Series: The Rise of the Fractional CFO: Reth
 inking Finance Leadership (in collaboration with FICPA)
BEGIN:VTIMEZONE
TZID:America/New_York
BEGIN:STANDARD
DTSTART:20251102T010000
TZOFFSETFROM:-0400
TZOFFSETTO:-0500
END:STANDARD
BEGIN:DAYLIGHT
DTSTART:20260308T010000
TZOFFSETFROM:-0500
TZOFFSETTO:-0400
END:DAYLIGHT
BEGIN:STANDARD
DTSTART:20261101T010000
TZOFFSETFROM:-0400
TZOFFSETTO:-0500
END:STANDARD
END:VTIMEZONE
BEGIN:VTIMEZONE
TZID:UTC
BEGIN:STANDARD
DTSTART:20250727T150510
TZOFFSETFROM:+0000
TZOFFSETTO:+0000
END:STANDARD
END:VTIMEZONE
BEGIN:VEVENT
UID:69ea35260356e
DTSTAMP:20260423T150510Z
SUMMARY:Corporate Finance Series: The Rise of the Fractional CFO: Rethinkin
 g Finance Leadership (in collaboration with FICPA)
LOCATION: 
URL:https://macpa.org/catalog/events/21464113-corporate-finance-series-the-
 rise-of-the-fractional-cfo-rethinking-finance-leadership-in-collaboration-
 with-ficpa-2026-20-05
DTSTART;TZID=America/New_York:20260520T083000
DTEND;TZID=America/New_York:20260520T120000
END:VEVENT
END:VCALENDAR