BEGIN:VCALENDAR
VERSION:2.0
PRODID:spatie/icalendar-generator
NAME:Corporate Finance Series: Strategic Planning: Decision Making Under Un
 certainty (in collaboration with FICPA)
X-WR-CALNAME:Corporate Finance Series: Strategic Planning: Decision Making 
 Under Uncertainty (in collaboration with FICPA)
BEGIN:VTIMEZONE
TZID:America/New_York
BEGIN:STANDARD
DTSTART:20251102T010000
TZOFFSETFROM:-0400
TZOFFSETTO:-0500
END:STANDARD
BEGIN:DAYLIGHT
DTSTART:20260308T010000
TZOFFSETFROM:-0500
TZOFFSETTO:-0400
END:DAYLIGHT
END:VTIMEZONE
BEGIN:VTIMEZONE
TZID:UTC
BEGIN:STANDARD
DTSTART:20250727T194808
TZOFFSETFROM:+0000
TZOFFSETTO:+0000
END:STANDARD
END:VTIMEZONE
BEGIN:VEVENT
UID:69ea77788363a
DTSTAMP:20260423T194808Z
SUMMARY:Corporate Finance Series: Strategic Planning: Decision Making Under
  Uncertainty (in collaboration with FICPA)
LOCATION: 
URL:https://macpa.org/catalog/events/21464104-corporate-finance-series-stra
 tegic-planning-decision-making-under-uncertainty-in-collaboration-with-fic
 pa-2026-22-04
DTSTART;TZID=America/New_York:20260422T083000
DTEND;TZID=America/New_York:20260422T120000
END:VEVENT
END:VCALENDAR