BEGIN:VCALENDAR
VERSION:2.0
PRODID:spatie/icalendar-generator
NAME:40th Annual Personal Financial Planning - Event Replay AM Sessions
X-WR-CALNAME:40th Annual Personal Financial Planning - Event Replay AM Sess
 ions
BEGIN:VTIMEZONE
TZID:America/New_York
BEGIN:STANDARD
DTSTART:20251102T010000
TZOFFSETFROM:-0400
TZOFFSETTO:-0500
END:STANDARD
BEGIN:DAYLIGHT
DTSTART:20260308T010000
TZOFFSETFROM:-0500
TZOFFSETTO:-0400
END:DAYLIGHT
END:VTIMEZONE
BEGIN:VTIMEZONE
TZID:UTC
BEGIN:STANDARD
DTSTART:20250727T094713
TZOFFSETFROM:+0000
TZOFFSETTO:+0000
END:STANDARD
END:VTIMEZONE
BEGIN:VEVENT
UID:69e9eaa1d4bc0
DTSTAMP:20260423T094713Z
SUMMARY:40th Annual Personal Financial Planning - Event Replay AM Sessions
LOCATION: 
URL:https://macpa.org/catalog/events/21463232-40th-annual-personal-financia
 l-planning-event-replay-am-sessions-2026-16-01
DTSTART;TZID=America/New_York:20260116T090000
DTEND;TZID=America/New_York:20260116T123000
END:VEVENT
END:VCALENDAR