BEGIN:VCALENDAR
VERSION:2.0
PRODID:spatie/icalendar-generator
NAME:2025 CPA Summit  - Day Two Replay
X-WR-CALNAME:2025 CPA Summit  - Day Two Replay
BEGIN:VTIMEZONE
TZID:America/New_York
BEGIN:STANDARD
DTSTART:20251102T010000
TZOFFSETFROM:-0400
TZOFFSETTO:-0500
END:STANDARD
BEGIN:DAYLIGHT
DTSTART:20260308T010000
TZOFFSETFROM:-0500
TZOFFSETTO:-0400
END:DAYLIGHT
END:VTIMEZONE
BEGIN:VTIMEZONE
TZID:UTC
BEGIN:STANDARD
DTSTART:20250727T163442
TZOFFSETFROM:+0000
TZOFFSETTO:+0000
END:STANDARD
END:VTIMEZONE
BEGIN:VEVENT
UID:69ea4a226e65a
DTSTAMP:20260423T163442Z
SUMMARY:2025 CPA Summit  - Day Two Replay
LOCATION: 
URL:https://macpa.org/catalog/events/21442727-2025-cpa-summit-day-two-repla
 y-2026-23-01
DTSTART;TZID=America/New_York:20260123T083000
DTEND;TZID=America/New_York:20260123T123000
END:VEVENT
END:VCALENDAR