BEGIN:VCALENDAR
VERSION:2.0
PRODID:spatie/icalendar-generator
NAME:2026 Future CPA Internship Bootcamp
X-WR-CALNAME:2026 Future CPA Internship Bootcamp
BEGIN:VTIMEZONE
TZID:America/New_York
BEGIN:STANDARD
DTSTART:20251102T010000
TZOFFSETFROM:-0400
TZOFFSETTO:-0500
END:STANDARD
BEGIN:DAYLIGHT
DTSTART:20260308T010000
TZOFFSETFROM:-0500
TZOFFSETTO:-0400
END:DAYLIGHT
END:VTIMEZONE
BEGIN:VTIMEZONE
TZID:UTC
BEGIN:STANDARD
DTSTART:20250727T150324
TZOFFSETFROM:+0000
TZOFFSETTO:+0000
END:STANDARD
END:VTIMEZONE
BEGIN:VEVENT
UID:69ea34bc2c9cd
DTSTAMP:20260423T150324Z
SUMMARY:2026 Future CPA Internship Bootcamp
LOCATION:4100 Hillen Rd\, Baltimore\, Baltimore City County\, Maryland 2121
 8-1663
URL:https://macpa.org/catalog/events/21431944-2026-future-cpa-internship-bo
 otcamp-2026-13-01
DTSTART;TZID=America/New_York:20260113T090000
DTEND;TZID=America/New_York:20260113T180000
END:VEVENT
END:VCALENDAR