BEGIN:VCALENDAR
VERSION:2.0
PRODID:spatie/icalendar-generator
NAME:Fundamentals of the 1040 for Junior Staff
X-WR-CALNAME:Fundamentals of the 1040 for Junior Staff
BEGIN:VTIMEZONE
TZID:America/New_York
BEGIN:STANDARD
DTSTART:20251102T010000
TZOFFSETFROM:-0400
TZOFFSETTO:-0500
END:STANDARD
BEGIN:DAYLIGHT
DTSTART:20260308T010000
TZOFFSETFROM:-0500
TZOFFSETTO:-0400
END:DAYLIGHT
END:VTIMEZONE
BEGIN:VTIMEZONE
TZID:UTC
BEGIN:STANDARD
DTSTART:20250727T163034
TZOFFSETFROM:+0000
TZOFFSETTO:+0000
END:STANDARD
END:VTIMEZONE
BEGIN:VEVENT
UID:69ea492a41b0c
DTSTAMP:20260423T163034Z
SUMMARY:Fundamentals of the 1040 for Junior Staff
LOCATION: 
URL:https://macpa.org/catalog/events/21431329-fundamentals-of-the-1040-for-
 junior-staff-2025-22-12
DTSTART;TZID=America/New_York:20251222T080000
DTEND;TZID=America/New_York:20251222T153000
END:VEVENT
END:VCALENDAR