BEGIN:VCALENDAR
VERSION:2.0
PRODID:spatie/icalendar-generator
NAME:Social Series: Ugly Sweater Happy Hour + Toy Drive Fundraiser
X-WR-CALNAME:Social Series: Ugly Sweater Happy Hour + Toy Drive Fundraiser
BEGIN:VTIMEZONE
TZID:America/New_York
BEGIN:STANDARD
DTSTART:20251102T010000
TZOFFSETFROM:-0400
TZOFFSETTO:-0500
END:STANDARD
BEGIN:DAYLIGHT
DTSTART:20260308T010000
TZOFFSETFROM:-0500
TZOFFSETTO:-0400
END:DAYLIGHT
END:VTIMEZONE
BEGIN:VTIMEZONE
TZID:UTC
BEGIN:STANDARD
DTSTART:20250727T171608
TZOFFSETFROM:+0000
TZOFFSETTO:+0000
END:STANDARD
END:VTIMEZONE
BEGIN:VEVENT
UID:69ea53d83b597
DTSTAMP:20260423T171608Z
SUMMARY:Social Series: Ugly Sweater Happy Hour + Toy Drive Fundraiser
LOCATION:2809 Boston St\, Baltimore\, Baltimore City County\, Maryland 2122
 4-4814
URL:https://macpa.org/catalog/events/21396595-social-series-ugly-sweater-ha
 ppy-hour-toy-drive-fundraiser-2025-11-12
DTSTART;TZID=America/New_York:20251211T170000
DTEND;TZID=America/New_York:20251211T190000
GEO:39.277715;-76.576054
X-APPLE-STRUCTURED-LOCATION;VALUE=URI;X-ADDRESS=2809 Boston St\, Baltimore\
 , Baltimore City County\, Maryland 21224-4814;X-APPLE-RADIUS=72;X-TITLE=Ba
 yside Cantina:geo:39.277715,-76.576054
END:VEVENT
END:VCALENDAR