BEGIN:VCALENDAR
VERSION:2.0
PRODID:spatie/icalendar-generator
NAME:Don Farmer’s 2025 Federal Tax Update (Rebroadcast)
X-WR-CALNAME:Don Farmer’s 2025 Federal Tax Update (Rebroadcast)
BEGIN:VTIMEZONE
TZID:America/New_York
BEGIN:STANDARD
DTSTART:20251102T010000
TZOFFSETFROM:-0400
TZOFFSETTO:-0500
END:STANDARD
BEGIN:DAYLIGHT
DTSTART:20260308T010000
TZOFFSETFROM:-0500
TZOFFSETTO:-0400
END:DAYLIGHT
END:VTIMEZONE
BEGIN:VTIMEZONE
TZID:UTC
BEGIN:STANDARD
DTSTART:20250727T150456
TZOFFSETFROM:+0000
TZOFFSETTO:+0000
END:STANDARD
END:VTIMEZONE
BEGIN:VEVENT
UID:69ea3518074e7
DTSTAMP:20260423T150456Z
SUMMARY:Don Farmer’s 2025 Federal Tax Update (Rebroadcast)
LOCATION: 
URL:https://macpa.org/catalog/events/21388204-don-farmers-2025-federal-tax-
 update-rebroadcast-2026-20-01
DTSTART;TZID=America/New_York:20260120T080000
DTEND;TZID=America/New_York:20260120T154500
END:VEVENT
END:VCALENDAR