BEGIN:VCALENDAR
VERSION:2.0
PRODID:spatie/icalendar-generator
NAME:Group Coaching/Empower Hour:  TOUGH TALKS\, BIG WINS: Master Courageou
 s Conversations
X-WR-CALNAME:Group Coaching/Empower Hour:  TOUGH TALKS\, BIG WINS: Master C
 ourageous Conversations
BEGIN:VTIMEZONE
TZID:America/New_York
BEGIN:DAYLIGHT
DTSTART:20250309T010000
TZOFFSETFROM:-0500
TZOFFSETTO:-0400
END:DAYLIGHT
BEGIN:STANDARD
DTSTART:20251102T010000
TZOFFSETFROM:-0400
TZOFFSETTO:-0500
END:STANDARD
BEGIN:DAYLIGHT
DTSTART:20260308T010000
TZOFFSETFROM:-0500
TZOFFSETTO:-0400
END:DAYLIGHT
END:VTIMEZONE
BEGIN:VTIMEZONE
TZID:UTC
BEGIN:STANDARD
DTSTART:20250727T134025
TZOFFSETFROM:+0000
TZOFFSETTO:+0000
END:STANDARD
END:VTIMEZONE
BEGIN:VEVENT
UID:69ea2149d69a0
DTSTAMP:20260423T134025Z
SUMMARY:Group Coaching/Empower Hour:  TOUGH TALKS\, BIG WINS: Master Courag
 eous Conversations
LOCATION: 
URL:https://macpa.org/catalog/events/21383120-group-coachingempower-hour-to
 ugh-talks-big-wins-master-courageous-conversations-2025-12-11
DTSTART;TZID=America/New_York:20251112T090000
DTEND;TZID=America/New_York:20251112T100000
END:VEVENT
END:VCALENDAR