BEGIN:VCALENDAR
VERSION:2.0
PRODID:spatie/icalendar-generator
NAME:The Complete Guide to Maryland Death Taxation
X-WR-CALNAME:The Complete Guide to Maryland Death Taxation
BEGIN:VTIMEZONE
TZID:America/New_York
BEGIN:STANDARD
DTSTART:20251102T010000
TZOFFSETFROM:-0400
TZOFFSETTO:-0500
END:STANDARD
BEGIN:DAYLIGHT
DTSTART:20260308T010000
TZOFFSETFROM:-0500
TZOFFSETTO:-0400
END:DAYLIGHT
END:VTIMEZONE
BEGIN:VTIMEZONE
TZID:UTC
BEGIN:STANDARD
DTSTART:20250727T114038
TZOFFSETFROM:+0000
TZOFFSETTO:+0000
END:STANDARD
END:VTIMEZONE
BEGIN:VEVENT
UID:69ea053634f0d
DTSTAMP:20260423T114038Z
SUMMARY:The Complete Guide to Maryland Death Taxation
LOCATION: 
URL:https://macpa.org/catalog/events/21371086-the-complete-guide-to-marylan
 d-death-taxation-2026-08-01
DTSTART;TZID=America/New_York:20260108T130000
DTEND;TZID=America/New_York:20260108T164500
END:VEVENT
END:VCALENDAR