BEGIN:VCALENDAR
VERSION:2.0
PRODID:spatie/icalendar-generator
NAME:Jeff Sailor’s A&A Update and Review
X-WR-CALNAME:Jeff Sailor’s A&A Update and Review
BEGIN:VTIMEZONE
TZID:America/New_York
BEGIN:STANDARD
DTSTART:20251102T010000
TZOFFSETFROM:-0400
TZOFFSETTO:-0500
END:STANDARD
BEGIN:DAYLIGHT
DTSTART:20260308T010000
TZOFFSETFROM:-0500
TZOFFSETTO:-0400
END:DAYLIGHT
END:VTIMEZONE
BEGIN:VTIMEZONE
TZID:UTC
BEGIN:STANDARD
DTSTART:20250727T150440
TZOFFSETFROM:+0000
TZOFFSETTO:+0000
END:STANDARD
END:VTIMEZONE
BEGIN:VEVENT
UID:69ea3508aa2aa
DTSTAMP:20260423T150440Z
SUMMARY:Jeff Sailor’s A&A Update and Review
LOCATION: 
URL:https://macpa.org/catalog/events/21371032-jeff-sailors-aa-update-and-re
 view-2026-06-01
DTSTART;TZID=America/New_York:20260106T080000
DTEND;TZID=America/New_York:20260106T153500
END:VEVENT
END:VCALENDAR