BEGIN:VCALENDAR
VERSION:2.0
PRODID:spatie/icalendar-generator
NAME:AI Foundations Virtual
X-WR-CALNAME:AI Foundations Virtual
BEGIN:VTIMEZONE
TZID:America/New_York
BEGIN:DAYLIGHT
DTSTART:20250309T010000
TZOFFSETFROM:-0500
TZOFFSETTO:-0400
END:DAYLIGHT
BEGIN:STANDARD
DTSTART:20251102T010000
TZOFFSETFROM:-0400
TZOFFSETTO:-0500
END:STANDARD
BEGIN:DAYLIGHT
DTSTART:20260308T010000
TZOFFSETFROM:-0500
TZOFFSETTO:-0400
END:DAYLIGHT
END:VTIMEZONE
BEGIN:VTIMEZONE
TZID:UTC
BEGIN:STANDARD
DTSTART:20250727T133012
TZOFFSETFROM:+0000
TZOFFSETTO:+0000
END:STANDARD
END:VTIMEZONE
BEGIN:VEVENT
UID:69ea1ee47dc6e
DTSTAMP:20260423T133012Z
SUMMARY:AI Foundations Virtual
LOCATION: 
URL:https://macpa.org/catalog/events/21366648-ai-foundations-virtual-2025-1
 7-10
DTSTART;TZID=America/New_York:20251017T120000
DTEND;TZID=America/New_York:20251017T160000
END:VEVENT
END:VCALENDAR