BEGIN:VCALENDAR
VERSION:2.0
PRODID:spatie/icalendar-generator
NAME:The FASB Conceptual Framework
X-WR-CALNAME:The FASB Conceptual Framework
BEGIN:VTIMEZONE
TZID:America/New_York
BEGIN:DAYLIGHT
DTSTART:20250309T010000
TZOFFSETFROM:-0500
TZOFFSETTO:-0400
END:DAYLIGHT
BEGIN:STANDARD
DTSTART:20251102T010000
TZOFFSETFROM:-0400
TZOFFSETTO:-0500
END:STANDARD
BEGIN:DAYLIGHT
DTSTART:20260308T010000
TZOFFSETFROM:-0500
TZOFFSETTO:-0400
END:DAYLIGHT
END:VTIMEZONE
BEGIN:VTIMEZONE
TZID:UTC
BEGIN:STANDARD
DTSTART:20250727T150457
TZOFFSETFROM:+0000
TZOFFSETTO:+0000
END:STANDARD
END:VTIMEZONE
BEGIN:VEVENT
UID:69ea351961240
DTSTAMP:20260423T150457Z
SUMMARY:The FASB Conceptual Framework
LOCATION: 
URL:https://macpa.org/catalog/events/21355304-the-fasb-conceptual-framework
 -2025-24-11
DTSTART;TZID=America/New_York:20251124T150000
DTEND;TZID=America/New_York:20251124T164000
END:VEVENT
END:VCALENDAR