BEGIN:VCALENDAR
VERSION:2.0
PRODID:spatie/icalendar-generator
NAME:Don Farmer's Annual Review of IRS Updates & Changes
X-WR-CALNAME:Don Farmer's Annual Review of IRS Updates & Changes
BEGIN:VTIMEZONE
TZID:America/New_York
BEGIN:STANDARD
DTSTART:20251102T010000
TZOFFSETFROM:-0400
TZOFFSETTO:-0500
END:STANDARD
BEGIN:DAYLIGHT
DTSTART:20260308T010000
TZOFFSETFROM:-0500
TZOFFSETTO:-0400
END:DAYLIGHT
END:VTIMEZONE
BEGIN:VTIMEZONE
TZID:UTC
BEGIN:STANDARD
DTSTART:20250727T181532
TZOFFSETFROM:+0000
TZOFFSETTO:+0000
END:STANDARD
END:VTIMEZONE
BEGIN:VEVENT
UID:69ea61c400337
DTSTAMP:20260423T181532Z
SUMMARY:Don Farmer's Annual Review of IRS Updates & Changes
LOCATION: 
URL:https://macpa.org/catalog/events/21346098-don-farmers-annual-review-of-
 irs-updates-changes-2026-26-01
DTSTART;TZID=America/New_York:20260126T140000
DTEND;TZID=America/New_York:20260126T155000
END:VEVENT
END:VCALENDAR