BEGIN:VCALENDAR
VERSION:2.0
PRODID:spatie/icalendar-generator
NAME:Metrics Which Every CFO\, Controller and CPA Advisor  Should Know
X-WR-CALNAME:Metrics Which Every CFO\, Controller and CPA Advisor  Should K
 now
BEGIN:VTIMEZONE
TZID:America/New_York
BEGIN:DAYLIGHT
DTSTART:20250309T010000
TZOFFSETFROM:-0500
TZOFFSETTO:-0400
END:DAYLIGHT
BEGIN:STANDARD
DTSTART:20251102T010000
TZOFFSETFROM:-0400
TZOFFSETTO:-0500
END:STANDARD
BEGIN:DAYLIGHT
DTSTART:20260308T010000
TZOFFSETFROM:-0500
TZOFFSETTO:-0400
END:DAYLIGHT
END:VTIMEZONE
BEGIN:VTIMEZONE
TZID:UTC
BEGIN:STANDARD
DTSTART:20250727T094647
TZOFFSETFROM:+0000
TZOFFSETTO:+0000
END:STANDARD
END:VTIMEZONE
BEGIN:VEVENT
UID:69e9ea87b326d
DTSTAMP:20260423T094647Z
SUMMARY:Metrics Which Every CFO\, Controller and CPA Advisor  Should Know
LOCATION: 
URL:https://macpa.org/catalog/events/21344599-metrics-which-every-cfo-contr
 oller-and-cpa-advisor-should-know-2025-27-10
DTSTART;TZID=America/New_York:20251027T130000
DTEND;TZID=America/New_York:20251027T144000
END:VEVENT
END:VCALENDAR