BEGIN:VCALENDAR
VERSION:2.0
PRODID:spatie/icalendar-generator
NAME:The AI Advantage: Leveraging AI for Efficiency and Impact
X-WR-CALNAME:The AI Advantage: Leveraging AI for Efficiency and Impact
BEGIN:VTIMEZONE
TZID:America/New_York
BEGIN:STANDARD
DTSTART:20251102T010000
TZOFFSETFROM:-0400
TZOFFSETTO:-0500
END:STANDARD
BEGIN:DAYLIGHT
DTSTART:20260308T010000
TZOFFSETFROM:-0500
TZOFFSETTO:-0400
END:DAYLIGHT
BEGIN:STANDARD
DTSTART:20261101T010000
TZOFFSETFROM:-0400
TZOFFSETTO:-0500
END:STANDARD
END:VTIMEZONE
BEGIN:VTIMEZONE
TZID:UTC
BEGIN:STANDARD
DTSTART:20250727T095110
TZOFFSETFROM:+0000
TZOFFSETTO:+0000
END:STANDARD
END:VTIMEZONE
BEGIN:VEVENT
UID:69e9eb8e07056
DTSTAMP:20260423T095110Z
SUMMARY:The AI Advantage: Leveraging AI for Efficiency and Impact
LOCATION: 
URL:https://macpa.org/catalog/events/21319839-the-ai-advantage-leveraging-a
 i-for-efficiency-and-impact-2026-03-06
DTSTART;TZID=America/New_York:20260603T100000
DTEND;TZID=America/New_York:20260603T113000
END:VEVENT
END:VCALENDAR