BEGIN:VCALENDAR
VERSION:2.0
PRODID:spatie/icalendar-generator
NAME:Bold Moves: Thriving in a Time of Transformation
X-WR-CALNAME:Bold Moves: Thriving in a Time of Transformation
BEGIN:VTIMEZONE
TZID:America/New_York
BEGIN:STANDARD
DTSTART:20251102T010000
TZOFFSETFROM:-0400
TZOFFSETTO:-0500
END:STANDARD
BEGIN:DAYLIGHT
DTSTART:20260308T010000
TZOFFSETFROM:-0500
TZOFFSETTO:-0400
END:DAYLIGHT
BEGIN:STANDARD
DTSTART:20261101T010000
TZOFFSETFROM:-0400
TZOFFSETTO:-0500
END:STANDARD
END:VTIMEZONE
BEGIN:VTIMEZONE
TZID:UTC
BEGIN:STANDARD
DTSTART:20250727T095109
TZOFFSETFROM:+0000
TZOFFSETTO:+0000
END:STANDARD
END:VTIMEZONE
BEGIN:VEVENT
UID:69e9eb8d95422
DTSTAMP:20260423T095109Z
SUMMARY:Bold Moves: Thriving in a Time of Transformation
LOCATION: 
URL:https://macpa.org/catalog/events/21319835-bold-moves-thriving-in-a-time
 -of-transformation-2026-08-05
DTSTART;TZID=America/New_York:20260508T090000
DTEND;TZID=America/New_York:20260508T103000
END:VEVENT
END:VCALENDAR