BEGIN:VCALENDAR
VERSION:2.0
PRODID:spatie/icalendar-generator
NAME:H.R. 1 and the Road Ahead: Emerging Business Tax Considerations
X-WR-CALNAME:H.R. 1 and the Road Ahead: Emerging Business Tax Consideration
 s
BEGIN:VTIMEZONE
TZID:America/New_York
BEGIN:DAYLIGHT
DTSTART:20250309T010000
TZOFFSETFROM:-0500
TZOFFSETTO:-0400
END:DAYLIGHT
BEGIN:STANDARD
DTSTART:20251102T010000
TZOFFSETFROM:-0400
TZOFFSETTO:-0500
END:STANDARD
BEGIN:DAYLIGHT
DTSTART:20260308T010000
TZOFFSETFROM:-0500
TZOFFSETTO:-0400
END:DAYLIGHT
END:VTIMEZONE
BEGIN:VTIMEZONE
TZID:UTC
BEGIN:STANDARD
DTSTART:20250726T205657
TZOFFSETFROM:+0000
TZOFFSETTO:+0000
END:STANDARD
END:VTIMEZONE
BEGIN:VEVENT
UID:69e9361944a56
DTSTAMP:20260422T205657Z
SUMMARY:H.R. 1 and the Road Ahead: Emerging Business Tax Considerations
LOCATION: 
URL:https://macpa.org/catalog/events/21319635-hr-1-and-the-road-ahead-emerg
 ing-business-tax-considerations-2025-27-10
DTSTART;TZID=America/New_York:20251027T120000
DTEND;TZID=America/New_York:20251027T150000
END:VEVENT
END:VCALENDAR