BEGIN:VCALENDAR
VERSION:2.0
PRODID:spatie/icalendar-generator
NAME:Use of technology in an audit of financial statements – Risk Assessm
 ent
X-WR-CALNAME:Use of technology in an audit of financial statements – Risk
  Assessment
BEGIN:VTIMEZONE
TZID:America/New_York
BEGIN:DAYLIGHT
DTSTART:20250309T010000
TZOFFSETFROM:-0500
TZOFFSETTO:-0400
END:DAYLIGHT
BEGIN:STANDARD
DTSTART:20251102T010000
TZOFFSETFROM:-0400
TZOFFSETTO:-0500
END:STANDARD
BEGIN:DAYLIGHT
DTSTART:20260308T010000
TZOFFSETFROM:-0500
TZOFFSETTO:-0400
END:DAYLIGHT
END:VTIMEZONE
BEGIN:VTIMEZONE
TZID:UTC
BEGIN:STANDARD
DTSTART:20250726T205906
TZOFFSETFROM:+0000
TZOFFSETTO:+0000
END:STANDARD
END:VTIMEZONE
BEGIN:VEVENT
UID:69e9369acf078
DTSTAMP:20260422T205906Z
SUMMARY:Use of technology in an audit of financial statements – Risk Asse
 ssment
LOCATION: 
URL:https://macpa.org/catalog/events/21319630-use-of-technology-in-an-audit
 -of-financial-statements-risk-assessment-2025-23-10
DTSTART;TZID=America/New_York:20251023T130000
DTEND;TZID=America/New_York:20251023T150000
END:VEVENT
END:VCALENDAR