BEGIN:VCALENDAR
VERSION:2.0
PRODID:spatie/icalendar-generator
NAME:Who\, When & Why It Matters: Navigating H.R. 1 Timeline & Impacts
X-WR-CALNAME:Who\, When & Why It Matters: Navigating H.R. 1 Timeline & Impa
 cts
BEGIN:VTIMEZONE
TZID:America/New_York
BEGIN:DAYLIGHT
DTSTART:20250309T010000
TZOFFSETFROM:-0500
TZOFFSETTO:-0400
END:DAYLIGHT
BEGIN:STANDARD
DTSTART:20251102T010000
TZOFFSETFROM:-0400
TZOFFSETTO:-0500
END:STANDARD
BEGIN:DAYLIGHT
DTSTART:20260308T010000
TZOFFSETFROM:-0500
TZOFFSETTO:-0400
END:DAYLIGHT
END:VTIMEZONE
BEGIN:VTIMEZONE
TZID:UTC
BEGIN:STANDARD
DTSTART:20250727T010318
TZOFFSETFROM:+0000
TZOFFSETTO:+0000
END:STANDARD
END:VTIMEZONE
BEGIN:VEVENT
UID:69e96fd6e1e51
DTSTAMP:20260423T010318Z
SUMMARY:Who\, When & Why It Matters: Navigating H.R. 1 Timeline & Impacts
LOCATION: 
URL:https://macpa.org/catalog/events/21319619-who-when-why-it-matters-navig
 ating-hr-1-timeline-impacts-2025-21-10
DTSTART;TZID=America/New_York:20251021T130000
DTEND;TZID=America/New_York:20251021T140000
END:VEVENT
END:VCALENDAR