BEGIN:VCALENDAR
VERSION:2.0
PRODID:spatie/icalendar-generator
NAME:The Crucial Connection - Why You Should Care About Your Client's Syste
 m of Internal Control
X-WR-CALNAME:The Crucial Connection - Why You Should Care About Your Client
 's System of Internal Control
BEGIN:VTIMEZONE
TZID:America/New_York
BEGIN:DAYLIGHT
DTSTART:20250309T010000
TZOFFSETFROM:-0500
TZOFFSETTO:-0400
END:DAYLIGHT
BEGIN:STANDARD
DTSTART:20251102T010000
TZOFFSETFROM:-0400
TZOFFSETTO:-0500
END:STANDARD
BEGIN:DAYLIGHT
DTSTART:20260308T010000
TZOFFSETFROM:-0500
TZOFFSETTO:-0400
END:DAYLIGHT
END:VTIMEZONE
BEGIN:VTIMEZONE
TZID:UTC
BEGIN:STANDARD
DTSTART:20250727T010134
TZOFFSETFROM:+0000
TZOFFSETTO:+0000
END:STANDARD
END:VTIMEZONE
BEGIN:VEVENT
UID:69e96f6e20ff9
DTSTAMP:20260423T010134Z
SUMMARY:The Crucial Connection - Why You Should Care About Your Client's Sy
 stem of Internal Control
LOCATION: 
URL:https://macpa.org/catalog/events/21319613-the-crucial-connection-why-yo
 u-should-care-about-your-clients-system-of-internal-control-2025-16-10
DTSTART;TZID=America/New_York:20251016T130000
DTEND;TZID=America/New_York:20251016T143000
END:VEVENT
END:VCALENDAR