BEGIN:VCALENDAR
VERSION:2.0
PRODID:spatie/icalendar-generator
NAME:MACPA Leadership Academy Follow-Up
X-WR-CALNAME:MACPA Leadership Academy Follow-Up
BEGIN:VTIMEZONE
TZID:America/New_York
BEGIN:DAYLIGHT
DTSTART:20250309T010000
TZOFFSETFROM:-0500
TZOFFSETTO:-0400
END:DAYLIGHT
BEGIN:STANDARD
DTSTART:20251102T010000
TZOFFSETFROM:-0400
TZOFFSETTO:-0500
END:STANDARD
END:VTIMEZONE
BEGIN:VTIMEZONE
TZID:UTC
BEGIN:STANDARD
DTSTART:20250726T224555
TZOFFSETFROM:+0000
TZOFFSETTO:+0000
END:STANDARD
END:VTIMEZONE
BEGIN:VEVENT
UID:69e94fa3b6521
DTSTAMP:20260422T224555Z
SUMMARY:MACPA Leadership Academy Follow-Up
LOCATION: 
URL:https://macpa.org/catalog/events/21289269-macpa-leadership-academy-foll
 ow-up-2025-27-08
DTSTART;TZID=America/New_York:20250827T090000
DTEND;TZID=America/New_York:20250827T100000
END:VEVENT
END:VCALENDAR