BEGIN:VCALENDAR
VERSION:2.0
PRODID:spatie/icalendar-generator
NAME:Forensic Study Group: Non-Competes – Legal Trends and Practical Issu
 es
X-WR-CALNAME:Forensic Study Group: Non-Competes – Legal Trends and Practi
 cal Issues
BEGIN:VTIMEZONE
TZID:America/New_York
BEGIN:DAYLIGHT
DTSTART:20250309T010000
TZOFFSETFROM:-0500
TZOFFSETTO:-0400
END:DAYLIGHT
BEGIN:STANDARD
DTSTART:20251102T010000
TZOFFSETFROM:-0400
TZOFFSETTO:-0500
END:STANDARD
BEGIN:DAYLIGHT
DTSTART:20260308T010000
TZOFFSETFROM:-0500
TZOFFSETTO:-0400
END:DAYLIGHT
END:VTIMEZONE
BEGIN:VTIMEZONE
TZID:UTC
BEGIN:STANDARD
DTSTART:20250726T205657
TZOFFSETFROM:+0000
TZOFFSETTO:+0000
END:STANDARD
END:VTIMEZONE
BEGIN:VEVENT
UID:69e9361975f47
DTSTAMP:20260422T205657Z
SUMMARY:Forensic Study Group: Non-Competes – Legal Trends and Practical I
 ssues
LOCATION: 
URL:https://macpa.org/catalog/events/21286138-forensic-study-group-non-comp
 etes-legal-trends-and-practical-issues-2025-10-10
DTSTART;TZID=America/New_York:20251010T090000
DTEND;TZID=America/New_York:20251010T100000
END:VEVENT
END:VCALENDAR