BEGIN:VCALENDAR
VERSION:2.0
PRODID:spatie/icalendar-generator
NAME:Network with Students - Ledo Pizza (Professionals Registration)
X-WR-CALNAME:Network with Students - Ledo Pizza (Professionals Registration
 )
BEGIN:VTIMEZONE
TZID:America/New_York
BEGIN:DAYLIGHT
DTSTART:20250309T010000
TZOFFSETFROM:-0500
TZOFFSETTO:-0400
END:DAYLIGHT
BEGIN:STANDARD
DTSTART:20251102T010000
TZOFFSETFROM:-0400
TZOFFSETTO:-0500
END:STANDARD
BEGIN:DAYLIGHT
DTSTART:20260308T010000
TZOFFSETFROM:-0500
TZOFFSETTO:-0400
END:DAYLIGHT
END:VTIMEZONE
BEGIN:VTIMEZONE
TZID:UTC
BEGIN:STANDARD
DTSTART:20250727T145954
TZOFFSETFROM:+0000
TZOFFSETTO:+0000
END:STANDARD
END:VTIMEZONE
BEGIN:VEVENT
UID:69ea33eacb724
DTSTAMP:20260423T145954Z
SUMMARY:Network with Students - Ledo Pizza (Professionals Registration)
LOCATION:4509 Knox Rd\, College Park\, Prince Georges County\, Maryland 207
 40
URL:https://macpa.org/catalog/events/21272066-network-with-students-ledo-pi
 zza-professionals-registration-2025-18-09
DTSTART;TZID=America/New_York:20250918T150000
DTEND;TZID=America/New_York:20250918T180000
GEO:38.980562;-76.936929
X-APPLE-STRUCTURED-LOCATION;VALUE=URI;X-ADDRESS=4509 Knox Rd\, College Park
 \, Prince Georges County\, Maryland 20740;X-APPLE-RADIUS=72;X-TITLE=Ledo P
 izza - College Park:geo:38.980562,-76.936929
END:VEVENT
END:VCALENDAR