BEGIN:VCALENDAR
VERSION:2.0
PRODID:spatie/icalendar-generator
NAME:Post H.R. 1 Charitable and Trust Planning Strategies
X-WR-CALNAME:Post H.R. 1 Charitable and Trust Planning Strategies
BEGIN:VTIMEZONE
TZID:America/New_York
BEGIN:DAYLIGHT
DTSTART:20250309T010000
TZOFFSETFROM:-0500
TZOFFSETTO:-0400
END:DAYLIGHT
BEGIN:STANDARD
DTSTART:20251102T010000
TZOFFSETFROM:-0400
TZOFFSETTO:-0500
END:STANDARD
END:VTIMEZONE
BEGIN:VTIMEZONE
TZID:UTC
BEGIN:STANDARD
DTSTART:20250726T210408
TZOFFSETFROM:+0000
TZOFFSETTO:+0000
END:STANDARD
END:VTIMEZONE
BEGIN:VEVENT
UID:69e937c86ce48
DTSTAMP:20260422T210408Z
SUMMARY:Post H.R. 1 Charitable and Trust Planning Strategies
LOCATION: 
URL:https://macpa.org/catalog/events/21271447-post-hr-1-charitable-and-trus
 t-planning-strategies-2025-26-08
DTSTART;TZID=America/New_York:20250826T113000
DTEND;TZID=America/New_York:20250826T133000
END:VEVENT
END:VCALENDAR