BEGIN:VCALENDAR
VERSION:2.0
PRODID:spatie/icalendar-generator
NAME:Strategic Income Management for Client Success
X-WR-CALNAME:Strategic Income Management for Client Success
BEGIN:VTIMEZONE
TZID:America/New_York
BEGIN:DAYLIGHT
DTSTART:20250309T010000
TZOFFSETFROM:-0500
TZOFFSETTO:-0400
END:DAYLIGHT
BEGIN:STANDARD
DTSTART:20251102T010000
TZOFFSETFROM:-0400
TZOFFSETTO:-0500
END:STANDARD
END:VTIMEZONE
BEGIN:VTIMEZONE
TZID:UTC
BEGIN:STANDARD
DTSTART:20250727T032356
TZOFFSETFROM:+0000
TZOFFSETTO:+0000
END:STANDARD
END:VTIMEZONE
BEGIN:VEVENT
UID:69e990cc09cd9
DTSTAMP:20260423T032356Z
SUMMARY:Strategic Income Management for Client Success
LOCATION: 
URL:https://macpa.org/catalog/events/21271442-strategic-income-management-f
 or-client-success-2025-18-08
DTSTART;TZID=America/New_York:20250818T123000
DTEND;TZID=America/New_York:20250818T140000
END:VEVENT
END:VCALENDAR