BEGIN:VCALENDAR
VERSION:2.0
PRODID:spatie/icalendar-generator
NAME:Don Farmer’s One Big Beautiful Bill: What Tax Practitioners Need to 
 Know (Replay)
X-WR-CALNAME:Don Farmer’s One Big Beautiful Bill: What Tax Practitioners 
 Need to Know (Replay)
BEGIN:VTIMEZONE
TZID:America/New_York
BEGIN:DAYLIGHT
DTSTART:20250309T010000
TZOFFSETFROM:-0500
TZOFFSETTO:-0400
END:DAYLIGHT
BEGIN:STANDARD
DTSTART:20251102T010000
TZOFFSETFROM:-0400
TZOFFSETTO:-0500
END:STANDARD
END:VTIMEZONE
BEGIN:VTIMEZONE
TZID:UTC
BEGIN:STANDARD
DTSTART:20250726T224555
TZOFFSETFROM:+0000
TZOFFSETTO:+0000
END:STANDARD
END:VTIMEZONE
BEGIN:VEVENT
UID:69e94fa363671
DTSTAMP:20260422T224555Z
SUMMARY:Don Farmer’s One Big Beautiful Bill: What Tax Practitioners Need 
 to Know (Replay)
LOCATION: 
URL:https://macpa.org/catalog/events/21254108-don-farmers-one-big-beautiful
 -bill-what-tax-practitioners-need-to-know-replay-2025-14-08
DTSTART;TZID=America/New_York:20250814T100000
DTEND;TZID=America/New_York:20250814T114000
END:VEVENT
END:VCALENDAR