BEGIN:VCALENDAR
VERSION:2.0
PRODID:spatie/icalendar-generator
NAME:Microsoft 365 Power Series: Managing Client Engagements and Internal P
 rojects with the Microsoft Planner App
X-WR-CALNAME:Microsoft 365 Power Series: Managing Client Engagements and In
 ternal Projects with the Microsoft Planner App
BEGIN:VTIMEZONE
TZID:America/New_York
BEGIN:DAYLIGHT
DTSTART:20250309T010000
TZOFFSETFROM:-0500
TZOFFSETTO:-0400
END:DAYLIGHT
BEGIN:STANDARD
DTSTART:20251102T010000
TZOFFSETFROM:-0400
TZOFFSETTO:-0500
END:STANDARD
BEGIN:DAYLIGHT
DTSTART:20260308T010000
TZOFFSETFROM:-0500
TZOFFSETTO:-0400
END:DAYLIGHT
END:VTIMEZONE
BEGIN:VTIMEZONE
TZID:UTC
BEGIN:STANDARD
DTSTART:20250726T205458
TZOFFSETFROM:+0000
TZOFFSETTO:+0000
END:STANDARD
END:VTIMEZONE
BEGIN:VEVENT
UID:69e935a230dc5
DTSTAMP:20260422T205458Z
SUMMARY:Microsoft 365 Power Series: Managing Client Engagements and Interna
 l Projects with the Microsoft Planner App
LOCATION: 
URL:https://macpa.org/catalog/events/21247272-microsoft-365-power-series-ma
 naging-client-engagements-and-internal-projects-with-the-microsoft-planner
 -app-2025-17-10
DTSTART;TZID=America/New_York:20251017T100000
DTEND;TZID=America/New_York:20251017T114000
END:VEVENT
END:VCALENDAR