BEGIN:VCALENDAR
VERSION:2.0
PRODID:spatie/icalendar-generator
NAME:Microsoft 365 Power Series: Establishing a Secure Cloud Based File Sto
 rage System with SharePoint & OneDrive
X-WR-CALNAME:Microsoft 365 Power Series: Establishing a Secure Cloud Based 
 File Storage System with SharePoint & OneDrive
BEGIN:VTIMEZONE
TZID:America/New_York
BEGIN:DAYLIGHT
DTSTART:20250309T010000
TZOFFSETFROM:-0500
TZOFFSETTO:-0400
END:DAYLIGHT
BEGIN:STANDARD
DTSTART:20251102T010000
TZOFFSETFROM:-0400
TZOFFSETTO:-0500
END:STANDARD
BEGIN:DAYLIGHT
DTSTART:20260308T010000
TZOFFSETFROM:-0500
TZOFFSETTO:-0400
END:DAYLIGHT
END:VTIMEZONE
BEGIN:VTIMEZONE
TZID:UTC
BEGIN:STANDARD
DTSTART:20250726T205510
TZOFFSETFROM:+0000
TZOFFSETTO:+0000
END:STANDARD
END:VTIMEZONE
BEGIN:VEVENT
UID:69e935ae6c4d1
DTSTAMP:20260422T205510Z
SUMMARY:Microsoft 365 Power Series: Establishing a Secure Cloud Based File 
 Storage System with SharePoint & OneDrive
LOCATION: 
URL:https://macpa.org/catalog/events/21247265-microsoft-365-power-series-es
 tablishing-a-secure-cloud-based-file-storage-system-with-sharepoint-onedri
 ve-2025-19-09
DTSTART;TZID=America/New_York:20250919T100000
DTEND;TZID=America/New_York:20250919T114000
END:VEVENT
END:VCALENDAR