BEGIN:VCALENDAR
VERSION:2.0
PRODID:spatie/icalendar-generator
NAME:Microsoft 365 Power Series: Building the Foundation with Microsoft Tea
 ms for Collaboration & Knowledge Sharing
X-WR-CALNAME:Microsoft 365 Power Series: Building the Foundation with Micro
 soft Teams for Collaboration & Knowledge Sharing
BEGIN:VTIMEZONE
TZID:America/New_York
BEGIN:DAYLIGHT
DTSTART:20250309T010000
TZOFFSETFROM:-0500
TZOFFSETTO:-0400
END:DAYLIGHT
BEGIN:STANDARD
DTSTART:20251102T010000
TZOFFSETFROM:-0400
TZOFFSETTO:-0500
END:STANDARD
END:VTIMEZONE
BEGIN:VTIMEZONE
TZID:UTC
BEGIN:STANDARD
DTSTART:20250726T225953
TZOFFSETFROM:+0000
TZOFFSETTO:+0000
END:STANDARD
END:VTIMEZONE
BEGIN:VEVENT
UID:69e952e99de33
DTSTAMP:20260422T225953Z
SUMMARY:Microsoft 365 Power Series: Building the Foundation with Microsoft 
 Teams for Collaboration & Knowledge Sharing
LOCATION: 
URL:https://macpa.org/catalog/events/21246993-microsoft-365-power-series-bu
 ilding-the-foundation-with-microsoft-teams-for-collaboration-knowledge-sha
 ring-2025-22-08
DTSTART;TZID=America/New_York:20250822T100000
DTEND;TZID=America/New_York:20250822T114000
END:VEVENT
END:VCALENDAR