BEGIN:VCALENDAR
VERSION:2.0
PRODID:spatie/icalendar-generator
NAME:Introduction to Yellow Book: 8-Credit Boot Camp
X-WR-CALNAME:Introduction to Yellow Book: 8-Credit Boot Camp
BEGIN:VTIMEZONE
TZID:America/New_York
BEGIN:STANDARD
DTSTART:20251102T010000
TZOFFSETFROM:-0400
TZOFFSETTO:-0500
END:STANDARD
BEGIN:DAYLIGHT
DTSTART:20260308T010000
TZOFFSETFROM:-0500
TZOFFSETTO:-0400
END:DAYLIGHT
END:VTIMEZONE
BEGIN:VTIMEZONE
TZID:UTC
BEGIN:STANDARD
DTSTART:20250727T095025
TZOFFSETFROM:+0000
TZOFFSETTO:+0000
END:STANDARD
END:VTIMEZONE
BEGIN:VEVENT
UID:69e9eb61656ff
DTSTAMP:20260423T095025Z
SUMMARY:Introduction to Yellow Book: 8-Credit Boot Camp
LOCATION: 
URL:https://macpa.org/catalog/events/21243532-introduction-to-yellow-book-8
 -credit-boot-camp-2026-14-04
DTSTART;TZID=America/New_York:20260414T090000
DTEND;TZID=America/New_York:20260414T170000
END:VEVENT
END:VCALENDAR