BEGIN:VCALENDAR
VERSION:2.0
PRODID:spatie/icalendar-generator
NAME:Defining Where and Why Internal Controls are Needed
X-WR-CALNAME:Defining Where and Why Internal Controls are Needed
BEGIN:VTIMEZONE
TZID:America/New_York
BEGIN:STANDARD
DTSTART:20251102T010000
TZOFFSETFROM:-0400
TZOFFSETTO:-0500
END:STANDARD
BEGIN:DAYLIGHT
DTSTART:20260308T010000
TZOFFSETFROM:-0500
TZOFFSETTO:-0400
END:DAYLIGHT
END:VTIMEZONE
BEGIN:VTIMEZONE
TZID:UTC
BEGIN:STANDARD
DTSTART:20250727T162708
TZOFFSETFROM:+0000
TZOFFSETTO:+0000
END:STANDARD
END:VTIMEZONE
BEGIN:VEVENT
UID:69ea485ce08a4
DTSTAMP:20260423T162708Z
SUMMARY:Defining Where and Why Internal Controls are Needed
LOCATION: 
URL:https://macpa.org/catalog/events/21243498-defining-where-and-why-intern
 al-controls-are-needed-2026-13-04
DTSTART;TZID=America/New_York:20260413T140000
DTEND;TZID=America/New_York:20260413T160000
END:VEVENT
END:VCALENDAR