BEGIN:VCALENDAR
VERSION:2.0
PRODID:spatie/icalendar-generator
NAME:Fraud Case Studies: 21st Century Professional Misbehavior
X-WR-CALNAME:Fraud Case Studies: 21st Century Professional Misbehavior
BEGIN:VTIMEZONE
TZID:America/New_York
BEGIN:STANDARD
DTSTART:20251102T010000
TZOFFSETFROM:-0400
TZOFFSETTO:-0500
END:STANDARD
BEGIN:DAYLIGHT
DTSTART:20260308T010000
TZOFFSETFROM:-0500
TZOFFSETTO:-0400
END:DAYLIGHT
END:VTIMEZONE
BEGIN:VTIMEZONE
TZID:UTC
BEGIN:STANDARD
DTSTART:20250727T094736
TZOFFSETFROM:+0000
TZOFFSETTO:+0000
END:STANDARD
END:VTIMEZONE
BEGIN:VEVENT
UID:69e9eab8dcb8f
DTSTAMP:20260423T094736Z
SUMMARY:Fraud Case Studies: 21st Century Professional Misbehavior
LOCATION: 
URL:https://macpa.org/catalog/events/21243482-fraud-case-studies-21st-centu
 ry-professional-misbehavior-2026-13-04
DTSTART;TZID=America/New_York:20260413T120000
DTEND;TZID=America/New_York:20260413T160000
END:VEVENT
END:VCALENDAR